BEGIN:VCALENDAR
VERSION:2.0
PRODID:-//https://denbighchristianacademy.com//NONSGML kigkonsult.se iCalcr
 eator 2.29.29//
CALSCALE:GREGORIAN
METHOD:PUBLISH
UID:ecc07fe1-86d8-4c19-95d7-44c8fec5962d
X-WR-CALNAME:JCal Pro Calendar
X-WR-CALDESC:Your online events calendar
X-WR-TIMEZONE:UTC
BEGIN:VTIMEZONE
TZID:UTC
END:VTIMEZONE
BEGIN:VEVENT
UID:20250707T140000UTC-9435LAa69U@https://www.denbighchristianacademy.com/
DTSTAMP:20260424T220758Z
CATEGORIES:School Menu
DESCRIPTION:<p><span style='text-decoration: underline\;'><strong>Breakfast
 </strong></span></p>\n<p><br />1/4-1/2 cup&nbsp\;Oatmeal<br />1/4-1/2 cup 
 Pineapple<br />1/4-1/2 cup Cereal (optional)<br />6 oz. 1% Milk (8 oz for 
 ages 6-12)</p>\n<p><br /><span style='text-decoration: underline\;'><stron
 g>AM Snack</strong></span></p>\n<p>2 oz Seedless Grapes<br />2 oz Graham C
 rackers<br />4 oz Water (8 oz for ages 6-12)</p>\n<p><br /><span style='te
 xt-decoration: underline\;'><strong>Lunch</strong></span></p>\n<p>1 1/2 oz
  Meatballs w/Brown Gravy<br />WW Roll<br />1/4-1/2 cup Peas &amp\; Carrots
 <br />1/4-1/2 cup WG Brown Rice<br />1/4 cup Fruit<br />6 oz.1% Milk (ages
  6-12 8 oz)</p>\n<p><br /><span style='text-decoration: underline\;'><stro
 ng>PM Snack</strong></span></p>\n<p>1 oz pk WG Cheez-it Crackers<br />4 oz
  1% Milk (8 oz for ages 6-12)</p>
DTSTART:20250707T000000Z
DTEND:20250707T235959Z
SUMMARY:Monday
URL:https://denbighchristianacademy.com/index.php/school-calendar/lunch-men
 u/10-school-menu/1840-monday
X-ALT-DESC;FMTTYPE=TEXT/HTML:<p><span style='text-decoration: underline\;'>
 <strong>Breakfast</strong></span></p>\n<p><br />1/4-1/2 cup&nbsp\;Oatmeal<
 br />1/4-1/2 cup Pineapple<br />1/4-1/2 cup Cereal (optional)<br />6 oz. 1
 % Milk (8 oz for ages 6-12)</p>\n<p><br /><span style='text-decoration: un
 derline\;'><strong>AM Snack</strong></span></p>\n<p>2 oz Seedless Grapes<b
 r />2 oz Graham Crackers<br />4 oz Water (8 oz for ages 6-12)</p>\n<p><br 
 /><span style='text-decoration: underline\;'><strong>Lunch</strong></span>
 </p>\n<p>1 1/2 oz Meatballs w/Brown Gravy<br />WW Roll<br />1/4-1/2 cup Pe
 as &amp\; Carrots<br />1/4-1/2 cup WG Brown Rice<br />1/4 cup Fruit<br />6
  oz.1% Milk (ages 6-12 8 oz)</p>\n<p><br /><span style='text-decoration: u
 nderline\;'><strong>PM Snack</strong></span></p>\n<p>1 oz pk WG Cheez-it C
 rackers<br />4 oz 1% Milk (8 oz for ages 6-12)</p>
END:VEVENT
BEGIN:VEVENT
UID:20250708T140000UTC-4405Zezm6h@https://www.denbighchristianacademy.com/
DTSTAMP:20260424T220758Z
CATEGORIES:School Menu
DESCRIPTION:<p><span style='text-decoration: underline\;'><strong>Breakfast
 </strong></span></p>\n<p><br />2 oz Waffles<br />1/4-1/2 cup Peaches<br />
 1/4-1/2 cup Cereal (optional)<br />6 oz. 1% Milk (8 oz for ages 6-12)</p>
 \n<p><br /><span style='text-decoration: underline\;'><strong>AM Snack</st
 rong></span></p>\n<p>1/2 - 1 Orange<br />2 oz Saltine Crackers<br />4 oz W
 ater (8 oz for ages 6-12)</p>\n<p><br /><span style='text-decoration: unde
 rline\;'><strong>Lunch</strong></span></p>\n<p>1 1/2 - 3 oz Chicken Nugget
 s<br />WW Bread<br />1/4-1/2 cup Corn<br />1/4 cup Fruit<br />6 oz.1% Milk
  (ages 6-12 8 oz)</p>\n<p><br /><span style='text-decoration: underline\;'
 ><strong>PM Snack</strong></span></p>\n<p>1 oz pk Oatmeal Cookies<br />4 o
 z 1% Milk (8 oz for ages 6-12)</p>
DTSTART:20250708T000000Z
DTEND:20250708T235959Z
SUMMARY:Tuesday
URL:https://denbighchristianacademy.com/index.php/school-calendar/lunch-men
 u/10-school-menu/1841-tuesday
X-ALT-DESC;FMTTYPE=TEXT/HTML:<p><span style='text-decoration: underline\;'>
 <strong>Breakfast</strong></span></p>\n<p><br />2 oz Waffles<br />1/4-1/2 
 cup Peaches<br />1/4-1/2 cup Cereal (optional)<br />6 oz. 1% Milk (8 oz fo
 r ages 6-12)</p>\n<p><br /><span style='text-decoration: underline\;'><str
 ong>AM Snack</strong></span></p>\n<p>1/2 - 1 Orange<br />2 oz Saltine Crac
 kers<br />4 oz Water (8 oz for ages 6-12)</p>\n<p><br /><span style='text-
 decoration: underline\;'><strong>Lunch</strong></span></p>\n<p>1 1/2 - 3 o
 z Chicken Nuggets<br />WW Bread<br />1/4-1/2 cup Corn<br />1/4 cup Fruit<b
 r />6 oz.1% Milk (ages 6-12 8 oz)</p>\n<p><br /><span style='text-decorati
 on: underline\;'><strong>PM Snack</strong></span></p>\n<p>1 oz pk Oatmeal 
 Cookies<br />4 oz 1% Milk (8 oz for ages 6-12)</p>
END:VEVENT
BEGIN:VEVENT
UID:20250709T140000UTC-6501tnZGgl@https://www.denbighchristianacademy.com/
DTSTAMP:20260424T220758Z
CATEGORIES:School Menu
DESCRIPTION:<p><span style='text-decoration: underline\;'><strong>Breakfast
 </strong></span></p>\n<p><br />1 1/2 oz Blueberry Muffins<br />1/4-1/2 cup
  Pears<br />1/4-1/2 cup Cereal (optional)<br />6 oz. 1% Milk (8 oz for age
 s 6-12)</p>\n<p><br /><span style='text-decoration: underline\;'><strong>A
 M Snack</strong></span></p>\n<p>3.9 oz cup Applesauce<br />2 oz Saltine Cr
 ackers<br />4 oz Water (8 oz for ages 6-12)</p>\n<p><br /><span style='tex
 t-decoration: underline\;'><strong>Lunch</strong></span></p>\n<p>1 1/2 oz 
 Hamburger/Cheeseburger on<br />WW Bun<br />1/4-1/2 cup Mixed Vegetables<br
  />1/4 cup Fruity Jello<br />6 oz.1% Milk (ages 6-12 8 oz)</p>\n<p><br /><
 span style='text-decoration: underline\;'><strong>PM Snack</strong></span>
 </p>\n<p>1 oz pk Ritz Bits w/Cheese<br />4 oz 1% Milk (8 oz for ages 6-12)
 </p>
DTSTART:20250709T000000Z
DTEND:20250709T235959Z
SUMMARY:Wednesday
URL:https://denbighchristianacademy.com/index.php/school-calendar/lunch-men
 u/10-school-menu/1842-wednesday
X-ALT-DESC;FMTTYPE=TEXT/HTML:<p><span style='text-decoration: underline\;'>
 <strong>Breakfast</strong></span></p>\n<p><br />1 1/2 oz Blueberry Muffins
 <br />1/4-1/2 cup Pears<br />1/4-1/2 cup Cereal (optional)<br />6 oz. 1% M
 ilk (8 oz for ages 6-12)</p>\n<p><br /><span style='text-decoration: under
 line\;'><strong>AM Snack</strong></span></p>\n<p>3.9 oz cup Applesauce<br 
 />2 oz Saltine Crackers<br />4 oz Water (8 oz for ages 6-12)</p>\n<p><br /
 ><span style='text-decoration: underline\;'><strong>Lunch</strong></span><
 /p>\n<p>1 1/2 oz Hamburger/Cheeseburger on<br />WW Bun<br />1/4-1/2 cup Mi
 xed Vegetables<br />1/4 cup Fruity Jello<br />6 oz.1% Milk (ages 6-12 8 oz
 )</p>\n<p><br /><span style='text-decoration: underline\;'><strong>PM Snac
 k</strong></span></p>\n<p>1 oz pk Ritz Bits w/Cheese<br />4 oz 1% Milk (8 
 oz for ages 6-12)</p>
END:VEVENT
BEGIN:VEVENT
UID:20250710T140000UTC-6071jEv2Hh@https://www.denbighchristianacademy.com/
DTSTAMP:20260424T220758Z
CATEGORIES:School Menu
DESCRIPTION:<p><span style='text-decoration: underline\;'><strong>Breakfast
 </strong></span></p>\n<p><br />1/4-1/2 cup Cream of Wheat<br />1/4-1/2 cup
  Fruit Cocktail<br />1/4-1/2 cup Cereal (optional)<br />6 oz. 1% Milk (8 o
 z for ages 6-12)</p>\n<p><br /><span style='text-decoration: underline\;'>
 <strong>AM Snack</strong></span></p>\n<p>1/2 to 1 whole Banana<br />2 oz G
 raham Crackers<br />4 oz Water (8 oz for ages 6-12)</p>\n<p><br /><span st
 yle='text-decoration: underline\;'><strong>Lunch</strong></span></p>\n<p>2
  oz Nacho Tortilla Chips with<br />Ground Beef &amp\; Cheese<br />1/4-1/2 
 cup Seasoned Corn<br />1/4 cup Fruit<br />6 oz.1% Milk (ages 6-12 8 oz)</p
 >\n<p><br /><span style='text-decoration: underline\;'><strong>PM Snack</s
 trong></span></p>\n<p>1.3 oz pk Animal Crackers<br />4 oz 1% Milk (8 oz fo
 r ages 6-12)</p>
DTSTART:20250710T000000Z
DTEND:20250710T235959Z
SUMMARY:Thursday
URL:https://denbighchristianacademy.com/index.php/school-calendar/lunch-men
 u/10-school-menu/1843-thursday
X-ALT-DESC;FMTTYPE=TEXT/HTML:<p><span style='text-decoration: underline\;'>
 <strong>Breakfast</strong></span></p>\n<p><br />1/4-1/2 cup Cream of Wheat
 <br />1/4-1/2 cup Fruit Cocktail<br />1/4-1/2 cup Cereal (optional)<br />6
  oz. 1% Milk (8 oz for ages 6-12)</p>\n<p><br /><span style='text-decorati
 on: underline\;'><strong>AM Snack</strong></span></p>\n<p>1/2 to 1 whole B
 anana<br />2 oz Graham Crackers<br />4 oz Water (8 oz for ages 6-12)</p>\n
 <p><br /><span style='text-decoration: underline\;'><strong>Lunch</strong>
 </span></p>\n<p>2 oz Nacho Tortilla Chips with<br />Ground Beef &amp\; Che
 ese<br />1/4-1/2 cup Seasoned Corn<br />1/4 cup Fruit<br />6 oz.1% Milk (a
 ges 6-12 8 oz)</p>\n<p><br /><span style='text-decoration: underline\;'><s
 trong>PM Snack</strong></span></p>\n<p>1.3 oz pk Animal Crackers<br />4 oz
  1% Milk (8 oz for ages 6-12)</p>
END:VEVENT
BEGIN:VEVENT
UID:20250711T140000UTC-2838cANBBm@https://www.denbighchristianacademy.com/
DTSTAMP:20260424T220758Z
CATEGORIES:School Menu
DESCRIPTION:<p><span style='text-decoration: underline\;'><strong>Breakfast
 </strong></span></p>\n<p><br />1 oz Biscuit w/Turkey Sausage<br />1/4-1/2 
 cup Mixed Fruit<br />1/4-1/2 cup Cereal (optional)<br />6 oz. 1% Milk (8 o
 z for ages 6-12)</p>\n<p><br /><span style='text-decoration: underline\;'>
 <strong>AM Snack</strong></span></p>\n<p>1 oz Cheese Stick<br />2 oz Ritz 
 Crackers<br />4 oz Water (8 oz for ages 6-12)</p>\n<p><br /><span style='t
 ext-decoration: underline\;'><strong>Lunch</strong></span></p>\n<p>2 - 4 o
 z Corn Dog Nuggets<br />1/4-1/2 cup Diced Carrots<br />1/4 cup Fruit<br />
 6 oz.1% Milk (ages 6-12 8 oz)</p>\n<p><br /><span style='text-decoration: 
 underline\;'><strong>PM Snack</strong></span></p>\n<p>1.3 oz WG Fig Newton
 s<br />4 oz 1% Milk (8 oz for ages 6-12)</p>
DTSTART:20250711T000000Z
DTEND:20250711T235959Z
SUMMARY:Friday
URL:https://denbighchristianacademy.com/index.php/school-calendar/lunch-men
 u/10-school-menu/1844-friday
X-ALT-DESC;FMTTYPE=TEXT/HTML:<p><span style='text-decoration: underline\;'>
 <strong>Breakfast</strong></span></p>\n<p><br />1 oz Biscuit w/Turkey Saus
 age<br />1/4-1/2 cup Mixed Fruit<br />1/4-1/2 cup Cereal (optional)<br />6
  oz. 1% Milk (8 oz for ages 6-12)</p>\n<p><br /><span style='text-decorati
 on: underline\;'><strong>AM Snack</strong></span></p>\n<p>1 oz Cheese Stic
 k<br />2 oz Ritz Crackers<br />4 oz Water (8 oz for ages 6-12)</p>\n<p><br
  /><span style='text-decoration: underline\;'><strong>Lunch</strong></span
 ></p>\n<p>2 - 4 oz Corn Dog Nuggets<br />1/4-1/2 cup Diced Carrots<br />1/
 4 cup Fruit<br />6 oz.1% Milk (ages 6-12 8 oz)</p>\n<p><br /><span style='
 text-decoration: underline\;'><strong>PM Snack</strong></span></p>\n<p>1.3
  oz WG Fig Newtons<br />4 oz 1% Milk (8 oz for ages 6-12)</p>
END:VEVENT
END:VCALENDAR
