BEGIN:VCALENDAR
VERSION:2.0
PRODID:-//https://denbighchristianacademy.com//NONSGML kigkonsult.se iCalcr
 eator 2.29.29//
CALSCALE:GREGORIAN
METHOD:PUBLISH
UID:f6c2eaf1-6beb-4aa1-8687-87586025280b
X-WR-CALNAME:JCal Pro Calendar
X-WR-CALDESC:Your online events calendar
X-WR-TIMEZONE:UTC
BEGIN:VTIMEZONE
TZID:UTC
END:VTIMEZONE
BEGIN:VEVENT
UID:20250714T180000UTC-85851bn3HP@https://www.denbighchristianacademy.com/
DTSTAMP:20260424T220843Z
CATEGORIES:School Menu
DESCRIPTION:<p><span style='text-decoration: underline\;'><strong>Breakfast
 </strong></span></p>\n<p><br />1/4-1/2 cup&nbsp\;Oatmeal<br />1/4-1/2 cup 
 Fruit<br />1/4-1/2 cup Cereal (optional)<br />6 oz. 1% Milk (8 oz for ages
  6-12)</p>\n<p><br /><span style='text-decoration: underline\;'><strong>AM
  Snack</strong></span></p>\n<p>1/2 - 1 whole Apple<br />2 oz Ritz Crakcers
 <br />4 oz Water (8 oz for ages 6-12)</p>\n<p><br /><span style='text-deco
 ration: underline\;'><strong>Lunch</strong></span></p>\n<p>2 oz Meatloaf i
 n Gravy<br />WW Bread<br />1/4-1/2 cup Mashed Potatoes<br />1/4-1/2 cup Di
 ced Carrots<br />1/4 cup Fruit<br />6 oz.1% Milk (ages 6-12 8 oz)</p>\n<p>
 <br /><span style='text-decoration: underline\;'><strong>PM Snack</strong>
 </span></p>\n<p>1 oz bag WW Cheez-it Crackers<br />4 oz 1% Milk (8 oz for 
 ages 6-12)</p>
DTSTART:20250714T000000Z
DTEND:20250714T235959Z
SUMMARY:Monday
URL:https://denbighchristianacademy.com/index.php/school-calendar/lunch-men
 u/10-school-menu/1845-monday
X-ALT-DESC;FMTTYPE=TEXT/HTML:<p><span style='text-decoration: underline\;'>
 <strong>Breakfast</strong></span></p>\n<p><br />1/4-1/2 cup&nbsp\;Oatmeal<
 br />1/4-1/2 cup Fruit<br />1/4-1/2 cup Cereal (optional)<br />6 oz. 1% Mi
 lk (8 oz for ages 6-12)</p>\n<p><br /><span style='text-decoration: underl
 ine\;'><strong>AM Snack</strong></span></p>\n<p>1/2 - 1 whole Apple<br />2
  oz Ritz Crakcers<br />4 oz Water (8 oz for ages 6-12)</p>\n<p><br /><span
  style='text-decoration: underline\;'><strong>Lunch</strong></span></p>\n<
 p>2 oz Meatloaf in Gravy<br />WW Bread<br />1/4-1/2 cup Mashed Potatoes<br
  />1/4-1/2 cup Diced Carrots<br />1/4 cup Fruit<br />6 oz.1% Milk (ages 6-
 12 8 oz)</p>\n<p><br /><span style='text-decoration: underline\;'><strong>
 PM Snack</strong></span></p>\n<p>1 oz bag WW Cheez-it Crackers<br />4 oz 1
 % Milk (8 oz for ages 6-12)</p>
END:VEVENT
BEGIN:VEVENT
UID:20250715T180000UTC-71471Um8VD@https://www.denbighchristianacademy.com/
DTSTAMP:20260424T220843Z
CATEGORIES:School Menu
DESCRIPTION:<p><span style='text-decoration: underline\;'><strong>Breakfast
 </strong></span></p>\n<p><br />1 1/2 oz Pancakes<br />1/4-1/2 cup Fruit<br
  />1/4-1/2 cup Cereal (optional)<br />6 oz. 1% Milk (8 oz for ages 6-12)</
 p>\n<p><br /><span style='text-decoration: underline\;'><strong>AM Snack</
 strong></span></p>\n<p>2 oz WG Ritz Crackers<br />1 oz Cheese Stick<br />4
  oz Water (8 oz for ages 6-12)</p>\n<p><br /><span style='text-decoration:
  underline\;'><strong>Lunch</strong></span></p>\n<p>1/2 - 1 cup Mac &amp\;
  Cheese<br />WW Bread<br />1/4-1/2 cup Sweet Peas<br />1/4 cup Fruit<br />
 6 oz.1% Milk (ages 6-12 8 oz)</p>\n<p><br /><span style='text-decoration: 
 underline\;'><strong>PM Snack</strong></span></p>\n<p>2 oz pk Animal Crack
 ers<br />4 oz 1% Milk (8 oz for ages 6-12)</p>
DTSTART:20250715T000000Z
DTEND:20250715T235959Z
SUMMARY:Tuesday
URL:https://denbighchristianacademy.com/index.php/school-calendar/lunch-men
 u/10-school-menu/1846-tuesday
X-ALT-DESC;FMTTYPE=TEXT/HTML:<p><span style='text-decoration: underline\;'>
 <strong>Breakfast</strong></span></p>\n<p><br />1 1/2 oz Pancakes<br />1/4
 -1/2 cup Fruit<br />1/4-1/2 cup Cereal (optional)<br />6 oz. 1% Milk (8 oz
  for ages 6-12)</p>\n<p><br /><span style='text-decoration: underline\;'><
 strong>AM Snack</strong></span></p>\n<p>2 oz WG Ritz Crackers<br />1 oz Ch
 eese Stick<br />4 oz Water (8 oz for ages 6-12)</p>\n<p><br /><span style=
 'text-decoration: underline\;'><strong>Lunch</strong></span></p>\n<p>1/2 -
  1 cup Mac &amp\; Cheese<br />WW Bread<br />1/4-1/2 cup Sweet Peas<br />1/
 4 cup Fruit<br />6 oz.1% Milk (ages 6-12 8 oz)</p>\n<p><br /><span style='
 text-decoration: underline\;'><strong>PM Snack</strong></span></p>\n<p>2 o
 z pk Animal Crackers<br />4 oz 1% Milk (8 oz for ages 6-12)</p>
END:VEVENT
BEGIN:VEVENT
UID:20250716T180000UTC-3651D8UvoU@https://www.denbighchristianacademy.com/
DTSTAMP:20260424T220843Z
CATEGORIES:School Menu
DESCRIPTION:<p><span style='text-decoration: underline\;'><strong>Breakfast
 </strong></span></p>\n<p><br />1/2 oz Blueberry Muffin<br />1/4-1/2 cup Ap
 plesauce<br />1/4-1/2 cup Cereal (optional)<br />6 oz. 1% Milk (8 oz for a
 ges 6-12)</p>\n<p><br /><span style='text-decoration: underline\;'><strong
 >AM Snack</strong></span></p>\n<p>1/2 to 1 whole Orange<br />2 oz Graham C
 rackers<br />4 oz Water (8 oz for ages 6-12)</p>\n<p><br /><span style='te
 xt-decoration: underline\;'><strong>Lunch</strong></span></p>\n<p>1 1/2 - 
 3 oz Fish Sticks<br />WW Bread<br />1/4-1/2 cup Mixed Vegetables<br />1/4 
 cup Fruity Jello<br />6 oz.1% Milk (ages 6-12 8 oz)</p>\n<p><br /><span st
 yle='text-decoration: underline\;'><strong>PM Snack</strong></span></p>\n<
 p>1 oz bag pretzels<br />4 oz 1% Milk (8 oz for ages 6-12)</p>
DTSTART:20250716T000000Z
DTEND:20250716T235959Z
SUMMARY:Wednesday
URL:https://denbighchristianacademy.com/index.php/school-calendar/lunch-men
 u/10-school-menu/1847-wednesday
X-ALT-DESC;FMTTYPE=TEXT/HTML:<p><span style='text-decoration: underline\;'>
 <strong>Breakfast</strong></span></p>\n<p><br />1/2 oz Blueberry Muffin<br
  />1/4-1/2 cup Applesauce<br />1/4-1/2 cup Cereal (optional)<br />6 oz. 1%
  Milk (8 oz for ages 6-12)</p>\n<p><br /><span style='text-decoration: und
 erline\;'><strong>AM Snack</strong></span></p>\n<p>1/2 to 1 whole Orange<b
 r />2 oz Graham Crackers<br />4 oz Water (8 oz for ages 6-12)</p>\n<p><br 
 /><span style='text-decoration: underline\;'><strong>Lunch</strong></span>
 </p>\n<p>1 1/2 - 3 oz Fish Sticks<br />WW Bread<br />1/4-1/2 cup Mixed Veg
 etables<br />1/4 cup Fruity Jello<br />6 oz.1% Milk (ages 6-12 8 oz)</p>\n
 <p><br /><span style='text-decoration: underline\;'><strong>PM Snack</stro
 ng></span></p>\n<p>1 oz bag pretzels<br />4 oz 1% Milk (8 oz for ages 6-12
 )</p>
END:VEVENT
BEGIN:VEVENT
UID:20250717T180000UTC-7604Je2emu@https://www.denbighchristianacademy.com/
DTSTAMP:20260424T220843Z
CATEGORIES:School Menu
DESCRIPTION:<p><span style='text-decoration: underline\;'><strong>Breakfast
 </strong></span></p>\n<p><br />1 - 2 oz Waffles<br />1/4-1/2 cup Fruit<br 
 />1/4-1/2 cup Cereal (optional)<br />6 oz. 1% Milk (8 oz for ages 6-12)</p
 >\n<p><br /><span style='text-decoration: underline\;'><strong>AM Snack</s
 trong></span></p>\n<p>2 oz WG Ritz Crackers<br />2 oz Seedless Grapes<br /
 >4 oz Water (8 oz for ages 6-12)</p>\n<p><br /><span style='text-decoratio
 n: underline\;'><strong>Lunch</strong></span></p>\n<p>1/2 - 1 cup Spaghett
 i w/Beef in<br />Tomato Sauce<br />WW Bread<br />1/4-1/2 cup Garden Salad 
 w/Dressing<br />1/4 cup Fruit<br />6 oz.1% Milk (ages 6-12 8 oz)</p>\n<p><
 br /><span style='text-decoration: underline\;'><strong>PM Snack</strong><
 /span></p>\n<p>1 oz Ritz Bits Crackers w/Cheese<br />4 oz 1% Milk (8 oz fo
 r ages 6-12)</p>
DTSTART:20250717T000000Z
DTEND:20250717T235959Z
SUMMARY:Thursday
URL:https://denbighchristianacademy.com/index.php/school-calendar/lunch-men
 u/10-school-menu/1848-thursday
X-ALT-DESC;FMTTYPE=TEXT/HTML:<p><span style='text-decoration: underline\;'>
 <strong>Breakfast</strong></span></p>\n<p><br />1 - 2 oz Waffles<br />1/4-
 1/2 cup Fruit<br />1/4-1/2 cup Cereal (optional)<br />6 oz. 1% Milk (8 oz 
 for ages 6-12)</p>\n<p><br /><span style='text-decoration: underline\;'><s
 trong>AM Snack</strong></span></p>\n<p>2 oz WG Ritz Crackers<br />2 oz See
 dless Grapes<br />4 oz Water (8 oz for ages 6-12)</p>\n<p><br /><span styl
 e='text-decoration: underline\;'><strong>Lunch</strong></span></p>\n<p>1/2
  - 1 cup Spaghetti w/Beef in<br />Tomato Sauce<br />WW Bread<br />1/4-1/2 
 cup Garden Salad w/Dressing<br />1/4 cup Fruit<br />6 oz.1% Milk (ages 6-1
 2 8 oz)</p>\n<p><br /><span style='text-decoration: underline\;'><strong>P
 M Snack</strong></span></p>\n<p>1 oz Ritz Bits Crackers w/Cheese<br />4 oz
  1% Milk (8 oz for ages 6-12)</p>
END:VEVENT
BEGIN:VEVENT
UID:20250718T180000UTC-4006AVpIeu@https://www.denbighchristianacademy.com/
DTSTAMP:20260424T220843Z
CATEGORIES:School Menu
DESCRIPTION:<p><span style='text-decoration: underline\;'><strong>Breakfast
 </strong></span></p>\n<p><br />1 oz Biscuit w/Turkey Sausage<br />1/4-1/2 
 cup Fruit<br />1/4-1/2 cup Cereal (optional)<br />6 oz. 1% Milk (8 oz for 
 ages 6-12)</p>\n<p><br /><span style='text-decoration: underline\;'><stron
 g>AM Snack</strong></span></p>\n<p>3.9 oz Applesauce<br />2 oz Graham Crac
 kers<br />4 oz Water (8 oz for ages 6-12)</p>\n<p><br /><span style='text-
 decoration: underline\;'><strong>Lunch</strong></span></p>\n<p>2 - 4 oz Sl
 iced Turkey on&nbsp\;<br />WW Bread<br />1/4-1/2 cup Potato Chips<br />1/4
  cup Fruit<br />6 oz.1% Milk (ages 6-12 8 oz)</p>\n<p><br /><span style='t
 ext-decoration: underline\;'><strong>PM Snack</strong></span></p>\n<p>1.3 
 oz pk Lorna Doone Cookies<br />4 oz 1% Milk (8 oz for ages 6-12)</p>
DTSTART:20250718T000000Z
DTEND:20250718T235959Z
SUMMARY:Friday
URL:https://denbighchristianacademy.com/index.php/school-calendar/lunch-men
 u/10-school-menu/1849-friday
X-ALT-DESC;FMTTYPE=TEXT/HTML:<p><span style='text-decoration: underline\;'>
 <strong>Breakfast</strong></span></p>\n<p><br />1 oz Biscuit w/Turkey Saus
 age<br />1/4-1/2 cup Fruit<br />1/4-1/2 cup Cereal (optional)<br />6 oz. 1
 % Milk (8 oz for ages 6-12)</p>\n<p><br /><span style='text-decoration: un
 derline\;'><strong>AM Snack</strong></span></p>\n<p>3.9 oz Applesauce<br /
 >2 oz Graham Crackers<br />4 oz Water (8 oz for ages 6-12)</p>\n<p><br /><
 span style='text-decoration: underline\;'><strong>Lunch</strong></span></p
 >\n<p>2 - 4 oz Sliced Turkey on&nbsp\;<br />WW Bread<br />1/4-1/2 cup Pota
 to Chips<br />1/4 cup Fruit<br />6 oz.1% Milk (ages 6-12 8 oz)</p>\n<p><br
  /><span style='text-decoration: underline\;'><strong>PM Snack</strong></s
 pan></p>\n<p>1.3 oz pk Lorna Doone Cookies<br />4 oz 1% Milk (8 oz for age
 s 6-12)</p>
END:VEVENT
END:VCALENDAR
