BEGIN:VCALENDAR
VERSION:2.0
PRODID:-//https://denbighchristianacademy.com//NONSGML kigkonsult.se iCalcr
 eator 2.29.29//
CALSCALE:GREGORIAN
METHOD:PUBLISH
UID:7a5ecffb-a70b-4831-b98e-dbe121da60f4
X-WR-CALNAME:JCal Pro Calendar
X-WR-CALDESC:Your online events calendar
X-WR-TIMEZONE:UTC
BEGIN:VTIMEZONE
TZID:UTC
END:VTIMEZONE
BEGIN:VEVENT
UID:20250908T190000UTC-8036vkEwnK@https://www.denbighchristianacademy.com/
DTSTAMP:20260424T192345Z
CATEGORIES:School Menu
DESCRIPTION:<p><span style='text-decoration: underline\;'><strong>Breakfast
 </strong></span></p>\n<p><br />1/4-1/2 cup&nbsp\;Oatmeal<br />1/4-1/2 cup 
 Fruit<br />1/4-1/2 cup Cereal (optional)<br />6 oz. 1% Milk (8 oz for ages
  6-12)</p>\n<p><br /><span style='text-decoration: underline\;'><strong>AM
  Snack</strong></span></p>\n<p>1/2 - 1 whole Apple<br />2 oz Ritz Crackers
 <br />4 oz Water (8 oz for ages 6-12)</p>\n<p><br /><span style='text-deco
 ration: underline\;'><strong>Lunch</strong></span></p>\n<p>2 oz Meatloaf i
 n Gravy<br />WW Bread<br />1/4-1/2 cup Mashed Potatoes<br />1/4-1/2 cup Di
 ced Carrots<br />1/4 cup Fruit<br />6 oz.1% Milk (ages 6-12 8 oz)</p>\n<p>
 <br /><span style='text-decoration: underline\;'><strong>PM Snack</strong>
 </span></p>\n<p>1 oz bag WW Cheez-it Crackers<br />4 oz 1% Milk (8 oz for 
 ages 6-12)</p>
DTSTART:20250908T000000Z
DTEND:20250908T235959Z
SUMMARY:Monday
URL:https://denbighchristianacademy.com/index.php/school-calendar/lunch-men
 u/10-school-menu/1886-monday
X-ALT-DESC;FMTTYPE=TEXT/HTML:<p><span style='text-decoration: underline\;'>
 <strong>Breakfast</strong></span></p>\n<p><br />1/4-1/2 cup&nbsp\;Oatmeal<
 br />1/4-1/2 cup Fruit<br />1/4-1/2 cup Cereal (optional)<br />6 oz. 1% Mi
 lk (8 oz for ages 6-12)</p>\n<p><br /><span style='text-decoration: underl
 ine\;'><strong>AM Snack</strong></span></p>\n<p>1/2 - 1 whole Apple<br />2
  oz Ritz Crackers<br />4 oz Water (8 oz for ages 6-12)</p>\n<p><br /><span
  style='text-decoration: underline\;'><strong>Lunch</strong></span></p>\n<
 p>2 oz Meatloaf in Gravy<br />WW Bread<br />1/4-1/2 cup Mashed Potatoes<br
  />1/4-1/2 cup Diced Carrots<br />1/4 cup Fruit<br />6 oz.1% Milk (ages 6-
 12 8 oz)</p>\n<p><br /><span style='text-decoration: underline\;'><strong>
 PM Snack</strong></span></p>\n<p>1 oz bag WW Cheez-it Crackers<br />4 oz 1
 % Milk (8 oz for ages 6-12)</p>
END:VEVENT
BEGIN:VEVENT
UID:20250909T190000UTC-85896JNxsU@https://www.denbighchristianacademy.com/
DTSTAMP:20260424T192345Z
CATEGORIES:School Menu
DESCRIPTION:<p><span style='text-decoration: underline\;'><strong>Breakfast
 </strong></span></p>\n<p><br />1 1/2 oz Pancakes<br />1/4-1/2 cup Fruit<br
  />1/4-1/2 cup Cereal (optional)<br />6 oz. 1% Milk (8 oz for ages 6-12)</
 p>\n<p><br /><span style='text-decoration: underline\;'><strong>AM Snack</
 strong></span></p>\n<p>2 oz WG Ritz Crackers<br />1 oz Cheese Stick<br />4
  oz Water (8 oz for ages 6-12)</p>\n<p><br /><span style='text-decoration:
  underline\;'><strong>Lunch</strong></span></p>\n<p>1/2 - 1 cup Mac &amp\;
  Cheese<br />WW Bread<br />1/4-1/2 cup Mixed Vegetables<br />1/4 cup Fruit
 <br />6 oz.1% Milk (ages 6-12 8 oz)</p>\n<p><br /><span style='text-decora
 tion: underline\;'><strong>PM Snack</strong></span></p>\n<p>2 oz pk Animal
  Crackers<br />4 oz 1% Milk (8 oz for ages 6-12)</p>
DTSTART:20250909T000000Z
DTEND:20250909T235959Z
SUMMARY:Tuesday
URL:https://denbighchristianacademy.com/index.php/school-calendar/lunch-men
 u/10-school-menu/1887-tuesday
X-ALT-DESC;FMTTYPE=TEXT/HTML:<p><span style='text-decoration: underline\;'>
 <strong>Breakfast</strong></span></p>\n<p><br />1 1/2 oz Pancakes<br />1/4
 -1/2 cup Fruit<br />1/4-1/2 cup Cereal (optional)<br />6 oz. 1% Milk (8 oz
  for ages 6-12)</p>\n<p><br /><span style='text-decoration: underline\;'><
 strong>AM Snack</strong></span></p>\n<p>2 oz WG Ritz Crackers<br />1 oz Ch
 eese Stick<br />4 oz Water (8 oz for ages 6-12)</p>\n<p><br /><span style=
 'text-decoration: underline\;'><strong>Lunch</strong></span></p>\n<p>1/2 -
  1 cup Mac &amp\; Cheese<br />WW Bread<br />1/4-1/2 cup Mixed Vegetables<b
 r />1/4 cup Fruit<br />6 oz.1% Milk (ages 6-12 8 oz)</p>\n<p><br /><span s
 tyle='text-decoration: underline\;'><strong>PM Snack</strong></span></p>\n
 <p>2 oz pk Animal Crackers<br />4 oz 1% Milk (8 oz for ages 6-12)</p>
END:VEVENT
BEGIN:VEVENT
UID:20250910T190000UTC-4941dIVgam@https://www.denbighchristianacademy.com/
DTSTAMP:20260424T192345Z
CATEGORIES:School Menu
DESCRIPTION:<p><span style='text-decoration: underline\;'><strong>Breakfast
 </strong></span></p>\n<p><br />1/2 oz Blueberry Muffin<br />1/4-1/2 cup Ap
 plesauce<br />1/4-1/2 cup Cereal (optional)<br />6 oz. 1% Milk (8 oz for a
 ges 6-12)</p>\n<p><br /><span style='text-decoration: underline\;'><strong
 >AM Snack</strong></span></p>\n<p>1/2 - 1 whole Orange<br />2 oz Graham Cr
 ackers<br />4 oz Water (8 oz for ages 6-12)</p>\n<p><br /><span style='tex
 t-decoration: underline\;'><strong>Lunch</strong></span></p>\n<p>1 1/2 - 3
  oz Cheese Pizza<br />1/4-1/2 cup Broccoli<br />1/4 cup Fruit<br />6 oz.1%
  Milk (ages 6-12 8 oz)</p>\n<p><br /><span style='text-decoration: underli
 ne\;'><strong>PM Snack</strong></span></p>\n<p>1 oz bag of Pretzels<br />4
  oz 1% Milk (8 oz for ages 6-12)</p>
DTSTART:20250910T000000Z
DTEND:20250910T235959Z
SUMMARY:Wednesday
URL:https://denbighchristianacademy.com/index.php/school-calendar/lunch-men
 u/10-school-menu/1888-wednesday
X-ALT-DESC;FMTTYPE=TEXT/HTML:<p><span style='text-decoration: underline\;'>
 <strong>Breakfast</strong></span></p>\n<p><br />1/2 oz Blueberry Muffin<br
  />1/4-1/2 cup Applesauce<br />1/4-1/2 cup Cereal (optional)<br />6 oz. 1%
  Milk (8 oz for ages 6-12)</p>\n<p><br /><span style='text-decoration: und
 erline\;'><strong>AM Snack</strong></span></p>\n<p>1/2 - 1 whole Orange<br
  />2 oz Graham Crackers<br />4 oz Water (8 oz for ages 6-12)</p>\n<p><br /
 ><span style='text-decoration: underline\;'><strong>Lunch</strong></span><
 /p>\n<p>1 1/2 - 3 oz Cheese Pizza<br />1/4-1/2 cup Broccoli<br />1/4 cup F
 ruit<br />6 oz.1% Milk (ages 6-12 8 oz)</p>\n<p><br /><span style='text-de
 coration: underline\;'><strong>PM Snack</strong></span></p>\n<p>1 oz bag o
 f Pretzels<br />4 oz 1% Milk (8 oz for ages 6-12)</p>
END:VEVENT
BEGIN:VEVENT
UID:20250911T190000UTC-9481U6Ahtm@https://www.denbighchristianacademy.com/
DTSTAMP:20260424T192345Z
CATEGORIES:School Menu
DESCRIPTION:<p><span style='text-decoration: underline\;'><strong>Breakfast
 </strong></span></p>\n<p><br />1 - 2 oz Waffles<br />1/4-1/2 cup Fruit<br 
 />1/4-1/2 cup Cereal (optional)<br />6 oz. 1% Milk (8 oz for ages 6-12)</p
 >\n<p><br /><span style='text-decoration: underline\;'><strong>AM Snack</s
 trong></span></p>\n<p>2 oz WG Ritz Crackers<br />2 oz Seedless Grapes<br /
 >4 oz Water (8 oz for ages 6-12)</p>\n<p><br /><span style='text-decoratio
 n: underline\;'><strong>Lunch</strong></span></p>\n<p>1/2 - 1 cup Spaghett
 i w/Beef in<br />Tomato Sauce<br />WW Bread<br />1/4-1/2 cup Garden Salad<
 br />1/4 cup Fruit<br />6 oz.1% Milk (ages 6-12 8 oz)</p>\n<p><br /><span 
 style='text-decoration: underline\;'><strong>PM Snack</strong></span></p>
 \n<p>1 oz Ritz Bits Crackers w/Cheese<br />4 oz 1% Milk (8 oz for ages 6-1
 2)</p>
DTSTART:20250911T000000Z
DTEND:20250911T235959Z
SUMMARY:Thursday
URL:https://denbighchristianacademy.com/index.php/school-calendar/lunch-men
 u/10-school-menu/1889-thursday
X-ALT-DESC;FMTTYPE=TEXT/HTML:<p><span style='text-decoration: underline\;'>
 <strong>Breakfast</strong></span></p>\n<p><br />1 - 2 oz Waffles<br />1/4-
 1/2 cup Fruit<br />1/4-1/2 cup Cereal (optional)<br />6 oz. 1% Milk (8 oz 
 for ages 6-12)</p>\n<p><br /><span style='text-decoration: underline\;'><s
 trong>AM Snack</strong></span></p>\n<p>2 oz WG Ritz Crackers<br />2 oz See
 dless Grapes<br />4 oz Water (8 oz for ages 6-12)</p>\n<p><br /><span styl
 e='text-decoration: underline\;'><strong>Lunch</strong></span></p>\n<p>1/2
  - 1 cup Spaghetti w/Beef in<br />Tomato Sauce<br />WW Bread<br />1/4-1/2 
 cup Garden Salad<br />1/4 cup Fruit<br />6 oz.1% Milk (ages 6-12 8 oz)</p>
 \n<p><br /><span style='text-decoration: underline\;'><strong>PM Snack</st
 rong></span></p>\n<p>1 oz Ritz Bits Crackers w/Cheese<br />4 oz 1% Milk (8
  oz for ages 6-12)</p>
END:VEVENT
BEGIN:VEVENT
UID:20250911T190000UTC-0446xhrrJL@https://www.denbighchristianacademy.com/
DTSTAMP:20260424T192345Z
CATEGORIES:School Menu
DESCRIPTION:<p><span style='text-decoration: underline\;'><strong>Breakfast
 </strong></span></p>\n<p><br />1 - 2 oz Waffles<br />1/4-1/2 cup Fruit<br 
 />1/4-1/2 cup Cereal (optional)<br />6 oz. 1% Milk (8 oz for ages 6-12)</p
 >\n<p><br /><span style='text-decoration: underline\;'><strong>AM Snack</s
 trong></span></p>\n<p>2 oz WG Ritz Crackers<br />2 oz Seedless Grapes<br /
 >4 oz Water (8 oz for ages 6-12)</p>\n<p><br /><span style='text-decoratio
 n: underline\;'><strong>Lunch</strong></span></p>\n<p>1/2 - 1 cup Spaghett
 i w/Beef in&nbsp\;<br />Tomato Sauce<br />WW Bread<br />1/4-1/2 cup Garden
  Salad<br />1/4 cup Fruit<br />6 oz.1% Milk (ages 6-12 8 oz)</p>\n<p><br /
 ><span style='text-decoration: underline\;'><strong>PM Snack</strong></spa
 n></p>\n<p>1 oz Ritz Bits Crackers w/Cheese<br />4 oz 1% Milk (8 oz for ag
 es 6-12)</p>
DTSTART:20250911T000000Z
DTEND:20250911T235959Z
SUMMARY:Thursday
URL:https://denbighchristianacademy.com/index.php/school-calendar/lunch-men
 u/10-school-menu/1890-thursday
X-ALT-DESC;FMTTYPE=TEXT/HTML:<p><span style='text-decoration: underline\;'>
 <strong>Breakfast</strong></span></p>\n<p><br />1 - 2 oz Waffles<br />1/4-
 1/2 cup Fruit<br />1/4-1/2 cup Cereal (optional)<br />6 oz. 1% Milk (8 oz 
 for ages 6-12)</p>\n<p><br /><span style='text-decoration: underline\;'><s
 trong>AM Snack</strong></span></p>\n<p>2 oz WG Ritz Crackers<br />2 oz See
 dless Grapes<br />4 oz Water (8 oz for ages 6-12)</p>\n<p><br /><span styl
 e='text-decoration: underline\;'><strong>Lunch</strong></span></p>\n<p>1/2
  - 1 cup Spaghetti w/Beef in&nbsp\;<br />Tomato Sauce<br />WW Bread<br />1
 /4-1/2 cup Garden Salad<br />1/4 cup Fruit<br />6 oz.1% Milk (ages 6-12 8 
 oz)</p>\n<p><br /><span style='text-decoration: underline\;'><strong>PM Sn
 ack</strong></span></p>\n<p>1 oz Ritz Bits Crackers w/Cheese<br />4 oz 1% 
 Milk (8 oz for ages 6-12)</p>
END:VEVENT
BEGIN:VEVENT
UID:20250912T190000UTC-3144WNOrcM@https://www.denbighchristianacademy.com/
DTSTAMP:20260424T192345Z
CATEGORIES:School Menu
DESCRIPTION:<p><span style='text-decoration: underline\;'><strong>Breakfast
 </strong></span></p>\n<p><br />1 oz Biscuit w/Turkey Sausage Links<br />1/
 4-1/2 cup Mixed Fruit<br />1/4-1/2 cup Cereal (optional)<br />6 oz. 1% Mil
 k (8 oz for ages 6-12)</p>\n<p><br /><span style='text-decoration: underli
 ne\;'><strong>AM Snack</strong></span></p>\n<p>3.9 oz Applesauce<br />2 oz
  Graham Crackers<br />4 oz Water (8 oz for ages 6-12)</p>\n<p><br /><span 
 style='text-decoration: underline\;'><strong>Lunch</strong></span></p>\n<p
 >1 - 2 oz Fish Sticks<br />WW Roll<br />1/4-1/2 cup Broccoli<br />1/4 cup 
 Fruit<br />6 oz.1% Milk (ages 6-12 8 oz)</p>\n<p><br /><span style='text-d
 ecoration: underline\;'><strong>PM Snack</strong></span></p>\n<p>1.3 oz Nu
 tri Graini Bar<br />4 oz 1% Milk (8 oz for ages 6-12)</p>
DTSTART:20250912T000000Z
DTEND:20250912T235959Z
SUMMARY:Friday
URL:https://denbighchristianacademy.com/index.php/school-calendar/lunch-men
 u/10-school-menu/1891-friday
X-ALT-DESC;FMTTYPE=TEXT/HTML:<p><span style='text-decoration: underline\;'>
 <strong>Breakfast</strong></span></p>\n<p><br />1 oz Biscuit w/Turkey Saus
 age Links<br />1/4-1/2 cup Mixed Fruit<br />1/4-1/2 cup Cereal (optional)<
 br />6 oz. 1% Milk (8 oz for ages 6-12)</p>\n<p><br /><span style='text-de
 coration: underline\;'><strong>AM Snack</strong></span></p>\n<p>3.9 oz App
 lesauce<br />2 oz Graham Crackers<br />4 oz Water (8 oz for ages 6-12)</p>
 \n<p><br /><span style='text-decoration: underline\;'><strong>Lunch</stron
 g></span></p>\n<p>1 - 2 oz Fish Sticks<br />WW Roll<br />1/4-1/2 cup Brocc
 oli<br />1/4 cup Fruit<br />6 oz.1% Milk (ages 6-12 8 oz)</p>\n<p><br /><s
 pan style='text-decoration: underline\;'><strong>PM Snack</strong></span><
 /p>\n<p>1.3 oz Nutri Graini Bar<br />4 oz 1% Milk (8 oz for ages 6-12)</p>
END:VEVENT
END:VCALENDAR
