BEGIN:VCALENDAR
VERSION:2.0
PRODID:-//https://denbighchristianacademy.com//NONSGML kigkonsult.se iCalcr
 eator 2.29.29//
CALSCALE:GREGORIAN
METHOD:PUBLISH
UID:68d725e8-feff-44dd-813b-3d1b391a591c
X-WR-CALNAME:JCal Pro Calendar
X-WR-CALDESC:Your online events calendar
X-WR-TIMEZONE:UTC
BEGIN:VTIMEZONE
TZID:UTC
END:VTIMEZONE
BEGIN:VEVENT
UID:20250929T140000UTC-27477ZsuB5@https://www.denbighchristianacademy.com/
DTSTAMP:20260424T162631Z
CATEGORIES:School Menu
DESCRIPTION:<p><span style='text-decoration: underline\;'><strong>Breakfast
 </strong></span></p>\n<p><br />1/4-1/2 cup&nbsp\;Oatmeal<br />1/4-1/2 cup 
 Pineapple<br />1/4-1/2 cup Cereal (optional)<br />6 oz. 1% Milk (8 oz for 
 ages 6-12)</p>\n<p><br /><span style='text-decoration: underline\;'><stron
 g>AM Snack</strong></span></p>\n<p>1.5 oz pk WG Cheez-it Crackers<br />4 o
 z Water (8 oz for ages 6-12)</p>\n<p><br /><span style='text-decoration: u
 nderline\;'><strong>Lunch</strong></span></p>\n<p>1/4-1/2 cup Chicken in G
 ravy<br />WW Bread<br />1/4-1/2 cup Buttered Noodles<br />1/4-1/2 cup Peas
  &amp\; Carrots<br />1/4 cup Fruit<br />6 oz.1% Milk (ages 6-12 8 oz)</p>
 \n<p><br /><span style='text-decoration: underline\;'><strong>PM Snack</st
 rong></span></p>\n<p>2 oz pk Animal Crackers<br />4 oz 1% Milk (8 oz for a
 ges 6-12)</p>
DTSTART:20250929T000000Z
DTEND:20250929T235959Z
SUMMARY:Monday
URL:https://denbighchristianacademy.com/index.php/school-calendar/lunch-men
 u/10-school-menu/1902-monday
X-ALT-DESC;FMTTYPE=TEXT/HTML:<p><span style='text-decoration: underline\;'>
 <strong>Breakfast</strong></span></p>\n<p><br />1/4-1/2 cup&nbsp\;Oatmeal<
 br />1/4-1/2 cup Pineapple<br />1/4-1/2 cup Cereal (optional)<br />6 oz. 1
 % Milk (8 oz for ages 6-12)</p>\n<p><br /><span style='text-decoration: un
 derline\;'><strong>AM Snack</strong></span></p>\n<p>1.5 oz pk WG Cheez-it 
 Crackers<br />4 oz Water (8 oz for ages 6-12)</p>\n<p><br /><span style='t
 ext-decoration: underline\;'><strong>Lunch</strong></span></p>\n<p>1/4-1/2
  cup Chicken in Gravy<br />WW Bread<br />1/4-1/2 cup Buttered Noodles<br /
 >1/4-1/2 cup Peas &amp\; Carrots<br />1/4 cup Fruit<br />6 oz.1% Milk (age
 s 6-12 8 oz)</p>\n<p><br /><span style='text-decoration: underline\;'><str
 ong>PM Snack</strong></span></p>\n<p>2 oz pk Animal Crackers<br />4 oz 1% 
 Milk (8 oz for ages 6-12)</p>
END:VEVENT
BEGIN:VEVENT
UID:20250930T140000UTC-6261RIUVVk@https://www.denbighchristianacademy.com/
DTSTAMP:20260424T162631Z
CATEGORIES:School Menu
DESCRIPTION:<p><span style='text-decoration: underline\;'><strong>Breakfast
 </strong></span></p>\n<p><br />1 1/2 - 2 oz Blueberry Muffins<br />1/4-1/2
  cup Applesauce<br />1/4-1/2 cup Cereal (optional)<br />6 oz. 1% Milk (8 o
 z for ages 6-12)</p>\n<p><br /><span style='text-decoration: underline\;'>
 <strong>AM Snack</strong></span></p>\n<p>1/2 to 1 whole Orange<br />2 oz G
 raham Crackers<br />4 oz Water (8 oz for ages 6-12)</p>\n<p><br /><span st
 yle='text-decoration: underline\;'><strong>Lunch</strong></span></p>\n<p>2
  oz Nacho tortilla Chips w/<br />Meat Sause &amp\; Cheese<br />WW Bread<br
  />1/4-1/2 cup Corn<br />1/4 cup Fruit<br />6 oz.1% Milk (ages 6-12 8 oz)<
 /p>\n<p><br /><span style='text-decoration: underline\;'><strong>PM Snack<
 /strong></span></p>\n<p>1 oz Fig Newton Bar<br />4 oz 1% Milk (8 oz for ag
 es 6-12)</p>
DTSTART:20250930T000000Z
DTEND:20250930T235959Z
SUMMARY:Tuesday
URL:https://denbighchristianacademy.com/index.php/school-calendar/lunch-men
 u/10-school-menu/1903-tuesday
X-ALT-DESC;FMTTYPE=TEXT/HTML:<p><span style='text-decoration: underline\;'>
 <strong>Breakfast</strong></span></p>\n<p><br />1 1/2 - 2 oz Blueberry Muf
 fins<br />1/4-1/2 cup Applesauce<br />1/4-1/2 cup Cereal (optional)<br />6
  oz. 1% Milk (8 oz for ages 6-12)</p>\n<p><br /><span style='text-decorati
 on: underline\;'><strong>AM Snack</strong></span></p>\n<p>1/2 to 1 whole O
 range<br />2 oz Graham Crackers<br />4 oz Water (8 oz for ages 6-12)</p>\n
 <p><br /><span style='text-decoration: underline\;'><strong>Lunch</strong>
 </span></p>\n<p>2 oz Nacho tortilla Chips w/<br />Meat Sause &amp\; Cheese
 <br />WW Bread<br />1/4-1/2 cup Corn<br />1/4 cup Fruit<br />6 oz.1% Milk 
 (ages 6-12 8 oz)</p>\n<p><br /><span style='text-decoration: underline\;'>
 <strong>PM Snack</strong></span></p>\n<p>1 oz Fig Newton Bar<br />4 oz 1% 
 Milk (8 oz for ages 6-12)</p>
END:VEVENT
BEGIN:VEVENT
UID:20251001T140000UTC-2170cRghsV@https://www.denbighchristianacademy.com/
DTSTAMP:20260424T162631Z
CATEGORIES:School Menu
DESCRIPTION:<p><span style='text-decoration: underline\;'><strong>Breakfast
 </strong></span></p>\n<p><br />1/4-1/2 cup Cream of Wheat<br />1/4-1/2 cup
  Mixed Fruit<br />1/4-1/2 cup Cereal (optional)<br />6 oz. 1% Milk (8 oz f
 or ages 6-12)</p>\n<p><br /><span style='text-decoration: underline\;'><st
 rong>AM Snack</strong></span></p>\n<p>1 Cheese Sticks<br />2 oz Ritz Crack
 ers<br />4 oz Water (8 oz for ages 6-12)</p>\n<p><br /><span style='text-d
 ecoration: underline\;'><strong>Lunch</strong></span></p>\n<p>1 1/2 - 3 oz
  Chicken Nuggets&nbsp\;<br />WW Bread<br />1/4-1/2 cup Mixed Vegetables<br
  />1/4 cup Fruit<br />6 oz.1% Milk (ages 6-12 8 oz)</p>\n<p><br /><span st
 yle='text-decoration: underline\;'><strong>PM Snack</strong></span></p>\n<
 p>1 oz WG Oatmeal Cookie<br />4 oz 1% Milk (8 oz for ages 6-12)</p>
DTSTART:20251001T000000Z
DTEND:20251001T235959Z
SUMMARY:Wednesday
URL:https://denbighchristianacademy.com/index.php/school-calendar/lunch-men
 u/10-school-menu/1904-wednesday
X-ALT-DESC;FMTTYPE=TEXT/HTML:<p><span style='text-decoration: underline\;'>
 <strong>Breakfast</strong></span></p>\n<p><br />1/4-1/2 cup Cream of Wheat
 <br />1/4-1/2 cup Mixed Fruit<br />1/4-1/2 cup Cereal (optional)<br />6 oz
 . 1% Milk (8 oz for ages 6-12)</p>\n<p><br /><span style='text-decoration:
  underline\;'><strong>AM Snack</strong></span></p>\n<p>1 Cheese Sticks<br 
 />2 oz Ritz Crackers<br />4 oz Water (8 oz for ages 6-12)</p>\n<p><br /><s
 pan style='text-decoration: underline\;'><strong>Lunch</strong></span></p>
 \n<p>1 1/2 - 3 oz Chicken Nuggets&nbsp\;<br />WW Bread<br />1/4-1/2 cup Mi
 xed Vegetables<br />1/4 cup Fruit<br />6 oz.1% Milk (ages 6-12 8 oz)</p>\n
 <p><br /><span style='text-decoration: underline\;'><strong>PM Snack</stro
 ng></span></p>\n<p>1 oz WG Oatmeal Cookie<br />4 oz 1% Milk (8 oz for ages
  6-12)</p>
END:VEVENT
BEGIN:VEVENT
UID:20251002T140000UTC-7902v9XdKz@https://www.denbighchristianacademy.com/
DTSTAMP:20260424T162631Z
CATEGORIES:School Menu
DESCRIPTION:<p><span style='text-decoration: underline\;'><strong>Breakfast
 </strong></span></p>\n<p><br />1 - 2 oz Waffles<br />1/4-1/2 cup Peaches<b
 r />1/4-1/2 cup Cereal (optional)<br />6 oz. 1% Milk (8 oz for ages 6-12)<
 /p>\n<p><br /><span style='text-decoration: underline\;'><strong>AM Snack<
 /strong></span></p>\n<p>2 oz Seedless Grapes<br />2 oz Saltine Crackers<br
  />4 oz Water (8 oz for ages 6-12)</p>\n<p><br /><span style='text-decorat
 ion: underline\;'><strong>Lunch</strong></span></p>\n<p>1/2 - 1 cup Spaghe
 tti w/Meat Sauce<br />Garlic Bread&nbsp\;<br />1/4-1/2 cup Tossed Salad<br
  />1/4 cup Fruit Cocktail<br />6 oz.1% Milk (ages 6-12 8 oz)</p>\n<p><br /
 ><span style='text-decoration: underline\;'><strong>PM Snack</strong></spa
 n></p>\n<p>1 oz pk Ritz Bits Crackers w/Cheese<br />4 oz 1% Milk (8 oz for
  ages 6-12)</p>
DTSTART:20251002T000000Z
DTEND:20251002T235959Z
SUMMARY:Thursday
URL:https://denbighchristianacademy.com/index.php/school-calendar/lunch-men
 u/10-school-menu/1905-thursday
X-ALT-DESC;FMTTYPE=TEXT/HTML:<p><span style='text-decoration: underline\;'>
 <strong>Breakfast</strong></span></p>\n<p><br />1 - 2 oz Waffles<br />1/4-
 1/2 cup Peaches<br />1/4-1/2 cup Cereal (optional)<br />6 oz. 1% Milk (8 o
 z for ages 6-12)</p>\n<p><br /><span style='text-decoration: underline\;'>
 <strong>AM Snack</strong></span></p>\n<p>2 oz Seedless Grapes<br />2 oz Sa
 ltine Crackers<br />4 oz Water (8 oz for ages 6-12)</p>\n<p><br /><span st
 yle='text-decoration: underline\;'><strong>Lunch</strong></span></p>\n<p>1
 /2 - 1 cup Spaghetti w/Meat Sauce<br />Garlic Bread&nbsp\;<br />1/4-1/2 cu
 p Tossed Salad<br />1/4 cup Fruit Cocktail<br />6 oz.1% Milk (ages 6-12 8 
 oz)</p>\n<p><br /><span style='text-decoration: underline\;'><strong>PM Sn
 ack</strong></span></p>\n<p>1 oz pk Ritz Bits Crackers w/Cheese<br />4 oz 
 1% Milk (8 oz for ages 6-12)</p>
END:VEVENT
BEGIN:VEVENT
UID:20251003T140000UTC-7706evD6uJ@https://www.denbighchristianacademy.com/
DTSTAMP:20260424T162631Z
CATEGORIES:School Menu
DESCRIPTION:<p><span style='text-decoration: underline\;'><strong>Breakfast
 </strong></span></p>\n<p><br />1 oz Biscuit w/Turkey Bacon<br />1/4-1/2 cu
 p Mixed Fruit<br />1/4-1/2 cup Cereal (optional)<br />6 oz. 1% Milk (8 oz 
 for ages 6-12)</p>\n<p><br /><span style='text-decoration: underline\;'><s
 trong>AM Snack</strong></span></p>\n<p>3.9 oz Applesauce<br />2 oz Graham 
 Crackers<br />4 oz Water (8 oz for ages 6-12)</p>\n<p><br /><span style='t
 ext-decoration: underline\;'><strong>Lunch</strong></span></p>\n<p>1 - 2 o
 z Fish Sticks<br />WW Roll<br />1/4-1/2 cup Broccoli<br />1/4 cup Fruity J
 ello<br />6 oz.1% Milk (ages 6-12 8 oz)</p>\n<p><br /><span style='text-de
 coration: underline\;'><strong>PM Snack</strong></span></p>\n<p>1.3 oz Nut
 ri Grain Bar<br />4 oz 1% Milk (8 oz for ages 6-12)</p>
DTSTART:20251003T000000Z
DTEND:20251003T235959Z
SUMMARY:Friday
URL:https://denbighchristianacademy.com/index.php/school-calendar/lunch-men
 u/10-school-menu/1906-friday
X-ALT-DESC;FMTTYPE=TEXT/HTML:<p><span style='text-decoration: underline\;'>
 <strong>Breakfast</strong></span></p>\n<p><br />1 oz Biscuit w/Turkey Baco
 n<br />1/4-1/2 cup Mixed Fruit<br />1/4-1/2 cup Cereal (optional)<br />6 o
 z. 1% Milk (8 oz for ages 6-12)</p>\n<p><br /><span style='text-decoration
 : underline\;'><strong>AM Snack</strong></span></p>\n<p>3.9 oz Applesauce<
 br />2 oz Graham Crackers<br />4 oz Water (8 oz for ages 6-12)</p>\n<p><br
  /><span style='text-decoration: underline\;'><strong>Lunch</strong></span
 ></p>\n<p>1 - 2 oz Fish Sticks<br />WW Roll<br />1/4-1/2 cup Broccoli<br /
 >1/4 cup Fruity Jello<br />6 oz.1% Milk (ages 6-12 8 oz)</p>\n<p><br /><sp
 an style='text-decoration: underline\;'><strong>PM Snack</strong></span></
 p>\n<p>1.3 oz Nutri Grain Bar<br />4 oz 1% Milk (8 oz for ages 6-12)</p>
END:VEVENT
END:VCALENDAR
