BEGIN:VCALENDAR
VERSION:2.0
PRODID:-//https://denbighchristianacademy.com//NONSGML kigkonsult.se iCalcr
 eator 2.29.29//
CALSCALE:GREGORIAN
METHOD:PUBLISH
UID:bf91fd9e-8aca-4ba6-ae16-3431960bef25
X-WR-CALNAME:JCal Pro Calendar
X-WR-CALDESC:Your online events calendar
X-WR-TIMEZONE:UTC
BEGIN:VTIMEZONE
TZID:UTC
END:VTIMEZONE
BEGIN:VEVENT
UID:20251208T130000UTC-4808X6x49H@https://www.denbighchristianacademy.com/
DTSTAMP:20260424T210624Z
CATEGORIES:School Menu
DESCRIPTION:<p><span style='text-decoration: underline\;'><strong>Breakfast
 </strong></span></p>\n<p><br />2 oz French Toast<br />1/4-1/2 cup Fruit<br
  />1/4-1/2 cup Cereal (optional)<br />6 oz. 1% Milk (8 oz for ages 6-12)</
 p>\n<p><br /><span style='text-decoration: underline\;'><strong>AM Snack</
 strong></span></p>\n<p>1 oz bag Gold Fish Crackers<br />4 oz 1% Milk (8 oz
  for ages 6-12)</p>\n<p><br /><span style='text-decoration: underline\;'><
 strong>Lunch</strong></span></p>\n<p>1/2 - 1 cup Beefaroni in Tomato Sauce
 <br />WW Bread<br />1/4-1/2 cup Broccoli<br />1/4 cup Fruit<br />6 oz.1% M
 ilk (ages 6-12 8 oz)</p>\n<p><br /><span style='text-decoration: underline
 \;'><strong>PM Snack</strong></span></p>\n<p>1 oz bag Oatmeal Cookies<br /
 >4 oz 1% Milk (8 oz for ages 6-12)</p>
DTSTART:20251208T000000Z
DTEND:20251208T235959Z
SUMMARY:Monday
URL:https://denbighchristianacademy.com/index.php/school-calendar/lunch-men
 u/10-school-menu/1952-monday
X-ALT-DESC;FMTTYPE=TEXT/HTML:<p><span style='text-decoration: underline\;'>
 <strong>Breakfast</strong></span></p>\n<p><br />2 oz French Toast<br />1/4
 -1/2 cup Fruit<br />1/4-1/2 cup Cereal (optional)<br />6 oz. 1% Milk (8 oz
  for ages 6-12)</p>\n<p><br /><span style='text-decoration: underline\;'><
 strong>AM Snack</strong></span></p>\n<p>1 oz bag Gold Fish Crackers<br />4
  oz 1% Milk (8 oz for ages 6-12)</p>\n<p><br /><span style='text-decoratio
 n: underline\;'><strong>Lunch</strong></span></p>\n<p>1/2 - 1 cup Beefaron
 i in Tomato Sauce<br />WW Bread<br />1/4-1/2 cup Broccoli<br />1/4 cup Fru
 it<br />6 oz.1% Milk (ages 6-12 8 oz)</p>\n<p><br /><span style='text-deco
 ration: underline\;'><strong>PM Snack</strong></span></p>\n<p>1 oz bag Oat
 meal Cookies<br />4 oz 1% Milk (8 oz for ages 6-12)</p>
END:VEVENT
BEGIN:VEVENT
UID:20251209T130000UTC-9596KSIZ1p@https://www.denbighchristianacademy.com/
DTSTAMP:20260424T210624Z
CATEGORIES:School Menu
DESCRIPTION:<p><span style='text-decoration: underline\;'><strong>Breakfast
 </strong></span></p>\n<p><br />1/4-1/2 cup&nbsp\;Oatmeal<br />1/4-1/2 cup 
 Fruit<br />1/4-1/2 cup Cereal (optional)<br />6 oz. 1% Milk (8 oz for ages
  6-12)</p>\n<p><br /><span style='text-decoration: underline\;'><strong>AM
  Snack</strong></span></p>\n<p>2 oz WG Ritz Crackers&nbsp\;<br />1/2 - 1 w
 hole Apple<br />4 oz Water (8 oz for ages 6-12)</p>\n<p><br /><span style=
 'text-decoration: underline\;'><strong>Lunch</strong></span></p>\n<p>2 - 4
  oz Chicken Nuggets<br />WW Roll<br />1/4-1/2 cup Peas &amp\; Carrots<br /
 >1/4 cup Fruit<br />6 oz.1% Milk (ages 6-12 8 oz)</p>\n<p><br /><span styl
 e='text-decoration: underline\;'><strong>PM Snack</strong></span></p>\n<p>
 1 oz bag Ritz Bits Crackers w/Cheese<br />4 oz 1% Milk (8 oz for ages 6-12
 )</p>
DTSTART:20251209T000000Z
DTEND:20251209T235959Z
SUMMARY:Tuesday
URL:https://denbighchristianacademy.com/index.php/school-calendar/lunch-men
 u/10-school-menu/1953-tuesday
X-ALT-DESC;FMTTYPE=TEXT/HTML:<p><span style='text-decoration: underline\;'>
 <strong>Breakfast</strong></span></p>\n<p><br />1/4-1/2 cup&nbsp\;Oatmeal<
 br />1/4-1/2 cup Fruit<br />1/4-1/2 cup Cereal (optional)<br />6 oz. 1% Mi
 lk (8 oz for ages 6-12)</p>\n<p><br /><span style='text-decoration: underl
 ine\;'><strong>AM Snack</strong></span></p>\n<p>2 oz WG Ritz Crackers&nbsp
 \;<br />1/2 - 1 whole Apple<br />4 oz Water (8 oz for ages 6-12)</p>\n<p><
 br /><span style='text-decoration: underline\;'><strong>Lunch</strong></sp
 an></p>\n<p>2 - 4 oz Chicken Nuggets<br />WW Roll<br />1/4-1/2 cup Peas &a
 mp\; Carrots<br />1/4 cup Fruit<br />6 oz.1% Milk (ages 6-12 8 oz)</p>\n<p
 ><br /><span style='text-decoration: underline\;'><strong>PM Snack</strong
 ></span></p>\n<p>1 oz bag Ritz Bits Crackers w/Cheese<br />4 oz 1% Milk (8
  oz for ages 6-12)</p>
END:VEVENT
BEGIN:VEVENT
UID:20251210T130000UTC-6036jnkaki@https://www.denbighchristianacademy.com/
DTSTAMP:20260424T210624Z
CATEGORIES:School Menu
DESCRIPTION:<p><span style='text-decoration: underline\;'><strong>Breakfast
 </strong></span></p>\n<p><br />1 1/2 - 3 oz Blueberry Muffins<br />1/4-1/2
  cup Fruit<br />1/4-1/2 cup Cereal (optional)<br />6 oz. 1% Milk (8 oz for
  ages 6-12)</p>\n<p><br /><span style='text-decoration: underline\;'><stro
 ng>AM Snack</strong></span></p>\n<p>1 oz Cheese Stick<br />2 oz Saltine Cr
 ackers<br />4 oz 1% Milk (8 oz for ages 6-12)</p>\n<p><br /><span style='t
 ext-decoration: underline\;'><strong>Lunch</strong></span></p>\n<p>1 1/2 -
  3 oz Meatloaf in Gravy w/<br />WW Bread<br />1/4-1/2 cup Mashed Potatoes<
 br />1/4-1/2 cup Mixed Vegetables<br />1/4 cup Fruit<br />6 oz.1% Milk (ag
 es 6-12 8 oz)</p>\n<p><br /><span style='text-decoration: underline\;'><st
 rong>PM Snack</strong></span></p>\n<p>1 oz Fig Newton Bar<br />4 oz 1% Mil
 k (8 oz for ages 6-12)</p>
DTSTART:20251210T000000Z
DTEND:20251210T235959Z
SUMMARY:Wednesday
URL:https://denbighchristianacademy.com/index.php/school-calendar/lunch-men
 u/10-school-menu/1954-wednesday
X-ALT-DESC;FMTTYPE=TEXT/HTML:<p><span style='text-decoration: underline\;'>
 <strong>Breakfast</strong></span></p>\n<p><br />1 1/2 - 3 oz Blueberry Muf
 fins<br />1/4-1/2 cup Fruit<br />1/4-1/2 cup Cereal (optional)<br />6 oz. 
 1% Milk (8 oz for ages 6-12)</p>\n<p><br /><span style='text-decoration: u
 nderline\;'><strong>AM Snack</strong></span></p>\n<p>1 oz Cheese Stick<br 
 />2 oz Saltine Crackers<br />4 oz 1% Milk (8 oz for ages 6-12)</p>\n<p><br
  /><span style='text-decoration: underline\;'><strong>Lunch</strong></span
 ></p>\n<p>1 1/2 - 3 oz Meatloaf in Gravy w/<br />WW Bread<br />1/4-1/2 cup
  Mashed Potatoes<br />1/4-1/2 cup Mixed Vegetables<br />1/4 cup Fruit<br /
 >6 oz.1% Milk (ages 6-12 8 oz)</p>\n<p><br /><span style='text-decoration:
  underline\;'><strong>PM Snack</strong></span></p>\n<p>1 oz Fig Newton Bar
 <br />4 oz 1% Milk (8 oz for ages 6-12)</p>
END:VEVENT
BEGIN:VEVENT
UID:20251211T140000UTC-8488pMtgRb@https://www.denbighchristianacademy.com/
DTSTAMP:20260424T210624Z
CATEGORIES:School Menu
DESCRIPTION:<p><span style='text-decoration: underline\;'><strong>Breakfast
 </strong></span></p>\n<p><br />1 1/2 oz Pancakes<br />1/4-1/2 cup Fruit<br
  />1/4-1/2 cup Cereal (optional)<br />6 oz. 1% Milk (8 oz for ages 6-12)</
 p>\n<p><br /><span style='text-decoration: underline\;'><strong>AM Snack</
 strong></span></p>\n<p>3.9 oz Applesauce<br />2 oz Graham Crackers<br />4 
 oz Water (8 oz for ages 6-12)</p>\n<p><br /><span style='text-decoration: 
 underline\;'><strong>Lunch</strong></span></p>\n<p>1/4-1/2 cup Chicken and
  Gravy<br />WW Bread<br />1/4-1/2 cup Buttered Noodles<br />1/4-1/2 cup Gr
 een Beans<br />1/4 cup Fruit<br />6 oz.1% Milk (ages 6-12 8 oz)</p>\n<p><b
 r /><span style='text-decoration: underline\;'><strong>PM Snack</strong></
 span></p>\n<p>2 oz pk Assorted Cookies<br />4 oz 1% Milk (8 oz for ages 6-
 12)</p>
DTSTART:20251211T000000Z
DTEND:20251211T235959Z
SUMMARY:Thursday
URL:https://denbighchristianacademy.com/index.php/school-calendar/lunch-men
 u/10-school-menu/1955-thursday
X-ALT-DESC;FMTTYPE=TEXT/HTML:<p><span style='text-decoration: underline\;'>
 <strong>Breakfast</strong></span></p>\n<p><br />1 1/2 oz Pancakes<br />1/4
 -1/2 cup Fruit<br />1/4-1/2 cup Cereal (optional)<br />6 oz. 1% Milk (8 oz
  for ages 6-12)</p>\n<p><br /><span style='text-decoration: underline\;'><
 strong>AM Snack</strong></span></p>\n<p>3.9 oz Applesauce<br />2 oz Graham
  Crackers<br />4 oz Water (8 oz for ages 6-12)</p>\n<p><br /><span style='
 text-decoration: underline\;'><strong>Lunch</strong></span></p>\n<p>1/4-1/
 2 cup Chicken and Gravy<br />WW Bread<br />1/4-1/2 cup Buttered Noodles<br
  />1/4-1/2 cup Green Beans<br />1/4 cup Fruit<br />6 oz.1% Milk (ages 6-12
  8 oz)</p>\n<p><br /><span style='text-decoration: underline\;'><strong>PM
  Snack</strong></span></p>\n<p>2 oz pk Assorted Cookies<br />4 oz 1% Milk 
 (8 oz for ages 6-12)</p>
END:VEVENT
BEGIN:VEVENT
UID:20251212T140000UTC-7196ekDUoX@https://www.denbighchristianacademy.com/
DTSTAMP:20260424T210624Z
CATEGORIES:School Menu
DESCRIPTION:<p><span style='text-decoration: underline\;'><strong>Breakfast
 </strong></span></p>\n<p><br />1 oz Biscuit w/Turkey Sausage<br />1/4-1/2 
 cup Fruit<br />1/4-1/2 cup Cereal (optional)<br />6 oz. 1% Milk (8 oz for 
 ages 6-12)</p>\n<p><br /><span style='text-decoration: underline\;'><stron
 g>AM Snack</strong></span></p>\n<p>1 oz bag Cheez-it Crackers<br />4 oz 1%
  Milk (8 oz for ages 6-12)</p>\n<p><br /><span style='text-decoration: und
 erline\;'><strong>Lunch</strong></span></p>\n<p>2 - 4 oz Beef Hot Dogs on<
 br />WW Bun<br />1/4-1/2 cup Baked Beans<br />1/4 cup Fruity Jello<br />6 
 oz.1% Milk (ages 6-12 8 oz)</p>\n<p><br /><span style='text-decoration: un
 derline\;'><strong>PM Snack</strong></span></p>\n<p>2 oz pk Animal Cracker
 s<br />4 oz 1% Milk (8 oz for ages 6-12)</p>
DTSTART:20251212T000000Z
DTEND:20251212T235959Z
SUMMARY:Friday
URL:https://denbighchristianacademy.com/index.php/school-calendar/lunch-men
 u/10-school-menu/1956-friday
X-ALT-DESC;FMTTYPE=TEXT/HTML:<p><span style='text-decoration: underline\;'>
 <strong>Breakfast</strong></span></p>\n<p><br />1 oz Biscuit w/Turkey Saus
 age<br />1/4-1/2 cup Fruit<br />1/4-1/2 cup Cereal (optional)<br />6 oz. 1
 % Milk (8 oz for ages 6-12)</p>\n<p><br /><span style='text-decoration: un
 derline\;'><strong>AM Snack</strong></span></p>\n<p>1 oz bag Cheez-it Crac
 kers<br />4 oz 1% Milk (8 oz for ages 6-12)</p>\n<p><br /><span style='tex
 t-decoration: underline\;'><strong>Lunch</strong></span></p>\n<p>2 - 4 oz 
 Beef Hot Dogs on<br />WW Bun<br />1/4-1/2 cup Baked Beans<br />1/4 cup Fru
 ity Jello<br />6 oz.1% Milk (ages 6-12 8 oz)</p>\n<p><br /><span style='te
 xt-decoration: underline\;'><strong>PM Snack</strong></span></p>\n<p>2 oz 
 pk Animal Crackers<br />4 oz 1% Milk (8 oz for ages 6-12)</p>
END:VEVENT
END:VCALENDAR
