BEGIN:VCALENDAR
VERSION:2.0
PRODID:-//https://denbighchristianacademy.com//NONSGML kigkonsult.se iCalcr
 eator 2.29.29//
CALSCALE:GREGORIAN
METHOD:PUBLISH
UID:f1ffd733-1645-426d-8d3e-0ffe7e465574
X-WR-CALNAME:JCal Pro Calendar
X-WR-CALDESC:Your online events calendar
X-WR-TIMEZONE:UTC
BEGIN:VTIMEZONE
TZID:UTC
END:VTIMEZONE
BEGIN:VEVENT
UID:20260323T220000UTC-2748ARitfi@https://www.denbighchristianacademy.com/
DTSTAMP:20260424T070204Z
CATEGORIES:School Menu
DESCRIPTION:<p><span style='text-decoration: underline\;'><strong>Breakfast
 </strong></span></p>\n<p><br />2 oz Waffles<br />1/4-1/2 cup Fruit<br />1/
 4-1/2 cup Cereal (optional)<br />6 oz. Milk (8 oz for ages 6-12)</p>\n<p><
 br /><span style='text-decoration: underline\;'><strong>AM Snack</strong><
 /span></p>\n<p>1 oz bag Goldfish Crackers<br />4 oz Milk (8 oz for ages 6-
 12)</p>\n<p><br /><span style='text-decoration: underline\;'><strong>Lunch
 </strong></span></p>\n<p>1/2 - 1 cup Beefaroni in Tomato Sauce<br />WW Bre
 ad<br />1/4-1/2 cup Broccoli<br />1/4 cup Fruit<br />6 oz.Milk (ages 6-12 
 8 oz)</p>\n<p><br /><span style='text-decoration: underline\;'><strong>PM 
 Snack</strong></span></p>\n<p>1 Fruit Pop Tart<br />4 oz Milk (8 oz for ag
 es 6-12)</p>
DTSTART:20260323T000000Z
DTEND:20260323T235959Z
SUMMARY:Monday
URL:https://denbighchristianacademy.com/index.php/school-calendar/lunch-men
 u/10-school-menu/2018-monday
X-ALT-DESC;FMTTYPE=TEXT/HTML:<p><span style='text-decoration: underline\;'>
 <strong>Breakfast</strong></span></p>\n<p><br />2 oz Waffles<br />1/4-1/2 
 cup Fruit<br />1/4-1/2 cup Cereal (optional)<br />6 oz. Milk (8 oz for age
 s 6-12)</p>\n<p><br /><span style='text-decoration: underline\;'><strong>A
 M Snack</strong></span></p>\n<p>1 oz bag Goldfish Crackers<br />4 oz Milk 
 (8 oz for ages 6-12)</p>\n<p><br /><span style='text-decoration: underline
 \;'><strong>Lunch</strong></span></p>\n<p>1/2 - 1 cup Beefaroni in Tomato 
 Sauce<br />WW Bread<br />1/4-1/2 cup Broccoli<br />1/4 cup Fruit<br />6 oz
 .Milk (ages 6-12 8 oz)</p>\n<p><br /><span style='text-decoration: underli
 ne\;'><strong>PM Snack</strong></span></p>\n<p>1 Fruit Pop Tart<br />4 oz 
 Milk (8 oz for ages 6-12)</p>
END:VEVENT
BEGIN:VEVENT
UID:20260321T220000UTC-9763MMKd4g@https://www.denbighchristianacademy.com/
DTSTAMP:20260424T070204Z
CATEGORIES:School Menu
DESCRIPTION:<p><span style='text-decoration: underline\;'><strong>Breakfast
 </strong></span></p>\n<p><br />1/4-1/2 cup&nbsp\;Oatmeal<br />1/4-1/2 cup 
 Fruit<br />1/4-1/2 cup Cereal (optional)<br />6 oz. Milk (8 oz for ages 6-
 12)</p>\n<p><br /><span style='text-decoration: underline\;'><strong>AM Sn
 ack</strong></span></p>\n<p>2 oz WG Ritz Crackers<br />1/2 - 1 whole Apple
 <br />4 oz Water (8 oz for ages 6-12)</p>\n<p><br /><span style='text-deco
 ration: underline\;'><strong>Lunch</strong></span></p>\n<p>2 - 4 oz Chicke
 n Nuggets<br />WW Roll<br />1/4-1/2 cup Peas &amp\; Corrots<br />1/4 cup F
 ruit<br />6 oz.Milk (ages 6-12 8 oz)</p>\n<p><br /><span style='text-decor
 ation: underline\;'><strong>PM Snack</strong></span></p>\n<p>1 oz bag Ritz
  Bits Crackers w/Cheese<br />4 oz Milk (8 oz for ages 6-12)</p>
DTSTART:20260324T000000Z
DTEND:20260324T235959Z
SUMMARY:Tuesday
URL:https://denbighchristianacademy.com/index.php/school-calendar/lunch-men
 u/10-school-menu/2019-tuesday
X-ALT-DESC;FMTTYPE=TEXT/HTML:<p><span style='text-decoration: underline\;'>
 <strong>Breakfast</strong></span></p>\n<p><br />1/4-1/2 cup&nbsp\;Oatmeal<
 br />1/4-1/2 cup Fruit<br />1/4-1/2 cup Cereal (optional)<br />6 oz. Milk 
 (8 oz for ages 6-12)</p>\n<p><br /><span style='text-decoration: underline
 \;'><strong>AM Snack</strong></span></p>\n<p>2 oz WG Ritz Crackers<br />1/
 2 - 1 whole Apple<br />4 oz Water (8 oz for ages 6-12)</p>\n<p><br /><span
  style='text-decoration: underline\;'><strong>Lunch</strong></span></p>\n<
 p>2 - 4 oz Chicken Nuggets<br />WW Roll<br />1/4-1/2 cup Peas &amp\; Corro
 ts<br />1/4 cup Fruit<br />6 oz.Milk (ages 6-12 8 oz)</p>\n<p><br /><span 
 style='text-decoration: underline\;'><strong>PM Snack</strong></span></p>
 \n<p>1 oz bag Ritz Bits Crackers w/Cheese<br />4 oz Milk (8 oz for ages 6-
 12)</p>
END:VEVENT
BEGIN:VEVENT
UID:20260325T220000UTC-1284InJ8Rt@https://www.denbighchristianacademy.com/
DTSTAMP:20260424T070204Z
CATEGORIES:School Menu
DESCRIPTION:<p><span style='text-decoration: underline\;'><strong>Breakfast
 </strong></span></p>\n<p><br />1 1/2 - 3 oz Assorted Bagels<br />1/4-1/2 c
 up Fruit<br />1/4-1/2 cup Cereal (optional)<br />6 oz. Milk (8 oz for ages
  6-12)</p>\n<p><br /><span style='text-decoration: underline\;'><strong>AM
  Snack</strong></span></p>\n<p>1 oz Cheese Stick<br />2 oz Saltine Cracker
 s<br />4 oz Water (8 oz for ages 6-12)</p>\n<p><br /><span style='text-dec
 oration: underline\;'><strong>Lunch</strong></span></p>\n<p>1 1/2 - 3 oz M
 eatloaf in Gravy with<br />WW Bread<br />1/4-1/2 cup Mashed Potatoes<br />
 1/4-1/2 cup Mixed Vegetables<br />1/4 cup Fruit<br />6 oz.Milk (ages 6-12 
 8 oz)</p>\n<p><br /><span style='text-decoration: underline\;'><strong>PM 
 Snack</strong></span></p>\n<p>1.3 oz Nutri Grain Bar<br />4 oz Milk (8 oz 
 for ages 6-12)</p>
DTSTART:20260325T000000Z
DTEND:20260325T235959Z
SUMMARY:Wednesday
URL:https://denbighchristianacademy.com/index.php/school-calendar/lunch-men
 u/10-school-menu/2020-wednesday
X-ALT-DESC;FMTTYPE=TEXT/HTML:<p><span style='text-decoration: underline\;'>
 <strong>Breakfast</strong></span></p>\n<p><br />1 1/2 - 3 oz Assorted Bage
 ls<br />1/4-1/2 cup Fruit<br />1/4-1/2 cup Cereal (optional)<br />6 oz. Mi
 lk (8 oz for ages 6-12)</p>\n<p><br /><span style='text-decoration: underl
 ine\;'><strong>AM Snack</strong></span></p>\n<p>1 oz Cheese Stick<br />2 o
 z Saltine Crackers<br />4 oz Water (8 oz for ages 6-12)</p>\n<p><br /><spa
 n style='text-decoration: underline\;'><strong>Lunch</strong></span></p>\n
 <p>1 1/2 - 3 oz Meatloaf in Gravy with<br />WW Bread<br />1/4-1/2 cup Mash
 ed Potatoes<br />1/4-1/2 cup Mixed Vegetables<br />1/4 cup Fruit<br />6 oz
 .Milk (ages 6-12 8 oz)</p>\n<p><br /><span style='text-decoration: underli
 ne\;'><strong>PM Snack</strong></span></p>\n<p>1.3 oz Nutri Grain Bar<br /
 >4 oz Milk (8 oz for ages 6-12)</p>
END:VEVENT
BEGIN:VEVENT
UID:20260326T220000UTC-6509B3P0Up@https://www.denbighchristianacademy.com/
DTSTAMP:20260424T070204Z
CATEGORIES:School Menu
DESCRIPTION:<p><span style='text-decoration: underline\;'><strong>Breakfast
 </strong></span>1 <br /><br />1/2 oz Pancakes<br />1/4-1/2 cup Fruit<br />
 1/4-1/2 cup Cereal (optional)<br />6 oz. Milk (8 oz for ages 6-12)</p>\n<p
 ><br /><span style='text-decoration: underline\;'><strong>AM Snack</strong
 ></span></p>\n<p>2 (1.6 oz) Fruity Snacks<br />4 oz Milk (8 oz for ages 6-
 12)</p>\n<p><br /><span style='text-decoration: underline\;'><strong>Lunch
 </strong></span></p>\n<p>1/4-1/2 cup BBQ Chicken<br />WW Bread<br />1/4-1/
 2 cup Coleslaw<br />1/4-1/2 cup Green Beans<br />1/4 cup Fruit<br />6 oz.M
 ilk (ages 6-12 8 oz)</p>\n<p><br /><span style='text-decoration: underline
 \;'><strong>PM Snack</strong></span></p>\n<p>2 oz pk Assorted Cookies<br /
 >4 oz Milk (8 oz for ages 6-12)</p>
DTSTART:20260326T000000Z
DTEND:20260326T235959Z
SUMMARY:Thursday
URL:https://denbighchristianacademy.com/index.php/school-calendar/lunch-men
 u/10-school-menu/2021-thursday
X-ALT-DESC;FMTTYPE=TEXT/HTML:<p><span style='text-decoration: underline\;'>
 <strong>Breakfast</strong></span>1 <br /><br />1/2 oz Pancakes<br />1/4-1/
 2 cup Fruit<br />1/4-1/2 cup Cereal (optional)<br />6 oz. Milk (8 oz for a
 ges 6-12)</p>\n<p><br /><span style='text-decoration: underline\;'><strong
 >AM Snack</strong></span></p>\n<p>2 (1.6 oz) Fruity Snacks<br />4 oz Milk 
 (8 oz for ages 6-12)</p>\n<p><br /><span style='text-decoration: underline
 \;'><strong>Lunch</strong></span></p>\n<p>1/4-1/2 cup BBQ Chicken<br />WW 
 Bread<br />1/4-1/2 cup Coleslaw<br />1/4-1/2 cup Green Beans<br />1/4 cup 
 Fruit<br />6 oz.Milk (ages 6-12 8 oz)</p>\n<p><br /><span style='text-deco
 ration: underline\;'><strong>PM Snack</strong></span></p>\n<p>2 oz pk Asso
 rted Cookies<br />4 oz Milk (8 oz for ages 6-12)</p>
END:VEVENT
BEGIN:VEVENT
UID:20260327T220000UTC-7044XksRNX@https://www.denbighchristianacademy.com/
DTSTAMP:20260424T070204Z
CATEGORIES:School Menu
DESCRIPTION:<p><span style='text-decoration: underline\;'><strong>Breakfast
 </strong></span></p>\n<p><br />1 oz Biscuit w/Bacon<br />1/4-1/2 cup Fruit
 <br />1/4-1/2 cup Cereal (optional)<br />6 oz. 1% Milk (8 oz for ages 6-12
 )</p>\n<p><br /><span style='text-decoration: underline\;'><strong>AM Snac
 k</strong></span></p>\n<p>1 oz bag Cheez-it Crackers<br />4 oz Milk (8 oz 
 for ages 6-12)</p>\n<p><br /><span style='text-decoration: underline\;'><s
 trong>Lunch</strong></span></p>\n<p>2 - 4 oz Corn Dog Nuggets<br />1/4-1/2
  cup Baked Beans<br />1/4 cup Fruity Jello<br />6 oz.Milk (ages 6-12 8 oz)
 </p>\n<p><br /><span style='text-decoration: underline\;'><strong>PM Snack
 </strong></span></p>\n<p>2 oz pk Animal Crackers<br />4 oz Milk (8 oz for 
 ages 6-12)</p>
DTSTART:20260327T000000Z
DTEND:20260327T235959Z
SUMMARY:Friday
URL:https://denbighchristianacademy.com/index.php/school-calendar/lunch-men
 u/10-school-menu/2022-friday
X-ALT-DESC;FMTTYPE=TEXT/HTML:<p><span style='text-decoration: underline\;'>
 <strong>Breakfast</strong></span></p>\n<p><br />1 oz Biscuit w/Bacon<br />
 1/4-1/2 cup Fruit<br />1/4-1/2 cup Cereal (optional)<br />6 oz. 1% Milk (8
  oz for ages 6-12)</p>\n<p><br /><span style='text-decoration: underline\;
 '><strong>AM Snack</strong></span></p>\n<p>1 oz bag Cheez-it Crackers<br /
 >4 oz Milk (8 oz for ages 6-12)</p>\n<p><br /><span style='text-decoration
 : underline\;'><strong>Lunch</strong></span></p>\n<p>2 - 4 oz Corn Dog Nug
 gets<br />1/4-1/2 cup Baked Beans<br />1/4 cup Fruity Jello<br />6 oz.Milk
  (ages 6-12 8 oz)</p>\n<p><br /><span style='text-decoration: underline\;'
 ><strong>PM Snack</strong></span></p>\n<p>2 oz pk Animal Crackers<br />4 o
 z Milk (8 oz for ages 6-12)</p>
END:VEVENT
END:VCALENDAR
