BEGIN:VCALENDAR
VERSION:2.0
PRODID:-//https://denbighchristianacademy.com//NONSGML kigkonsult.se iCalcr
 eator 2.29.29//
CALSCALE:GREGORIAN
METHOD:PUBLISH
UID:dd0ebe60-dfea-4255-8349-8d5891b299aa
X-WR-CALNAME:JCal Pro Calendar
X-WR-CALDESC:Your online events calendar
X-WR-TIMEZONE:UTC
BEGIN:VTIMEZONE
TZID:UTC
END:VTIMEZONE
BEGIN:VEVENT
UID:20260423T190000UTC-6225v7upNj@https://www.denbighchristianacademy.com/
DTSTAMP:20260423T230111Z
CATEGORIES:School Menu
DESCRIPTION:<p><span style='text-decoration: underline\;'><strong>Breakfast
 </strong></span></p>\n<p><br />1 1/2 oz Pancakes<br />1/4-1/2 cup Fruit<br
  />1/4-1/2 cup Cereal (optional)<br />6 oz. Milk (8 oz for ages 6-12)</p>
 \n<p><br /><span style='text-decoration: underline\;'><strong>AM Snack</st
 rong></span></p>\n<p>2 oz Oreo Cookies<br />4 oz Milk (8 oz for ages 6-12)
 </p>\n<p><br /><span style='text-decoration: underline\;'><strong>Lunch</s
 trong></span></p>\n<p>1 1/2 - 3 oz Cheese Pizza<br />1/4-1/2 cup Tossed Sa
 lad w/Dressing<br />1/4 cup Fruit<br />6 oz.Milk (ages 6-12 8 oz)</p>\n<p>
 <br /><span style='text-decoration: underline\;'><strong>PM Snack</strong>
 </span></p>\n<p>2 oz bag Animal Crackers<br />4 oz Milk (8 oz for ages 6-1
 2)</p>
DTSTART:20260423T000000Z
DTEND:20260423T235959Z
SUMMARY:Thursday
URL:https://denbighchristianacademy.com/index.php/school-calendar/lunch-men
 u/10-school-menu/2040-thursday
X-ALT-DESC;FMTTYPE=TEXT/HTML:<p><span style='text-decoration: underline\;'>
 <strong>Breakfast</strong></span></p>\n<p><br />1 1/2 oz Pancakes<br />1/4
 -1/2 cup Fruit<br />1/4-1/2 cup Cereal (optional)<br />6 oz. Milk (8 oz fo
 r ages 6-12)</p>\n<p><br /><span style='text-decoration: underline\;'><str
 ong>AM Snack</strong></span></p>\n<p>2 oz Oreo Cookies<br />4 oz Milk (8 o
 z for ages 6-12)</p>\n<p><br /><span style='text-decoration: underline\;'>
 <strong>Lunch</strong></span></p>\n<p>1 1/2 - 3 oz Cheese Pizza<br />1/4-1
 /2 cup Tossed Salad w/Dressing<br />1/4 cup Fruit<br />6 oz.Milk (ages 6-1
 2 8 oz)</p>\n<p><br /><span style='text-decoration: underline\;'><strong>P
 M Snack</strong></span></p>\n<p>2 oz bag Animal Crackers<br />4 oz Milk (8
  oz for ages 6-12)</p>
END:VEVENT
BEGIN:VEVENT
UID:20260424T190000UTC-3349JveubS@https://www.denbighchristianacademy.com/
DTSTAMP:20260423T230111Z
CATEGORIES:School Menu
DESCRIPTION:<p><span style='text-decoration: underline\;'><strong>Breakfast
 </strong></span></p>\n<p><br />1 oz Biscuit w/Turkey Sausage<br />1/4-1/2 
 cup Fruit<br />1/4-1/2 cup Cereal (optional)<br />6 oz. Milk (8 oz for age
 s 6-12)</p>\n<p><br /><span style='text-decoration: underline\;'><strong>A
 M Snack</strong></span></p>\n<p>1.3 oz Nutri Grain Bar<br />4 oz Milk (8 o
 z for ages 6-12)</p>\n<p><br /><span style='text-decoration: underline\;'>
 <strong>Lunch</strong></span></p>\n<p>2 - 4 oz Coarn Dog Nuggets<br />1/4-
 1/2 cup Baked Beans<br />1/4 cup Fruity Jello<br />6 oz.Milk (ages 6-12 8 
 oz)</p>\n<p><br /><span style='text-decoration: underline\;'><strong>PM Sn
 ack</strong></span></p>\n<p>1 oz bag Goldfish Crackers<br />4 oz Milk (8 o
 z for ages 6-12)</p>
DTSTART:20260424T000000Z
DTEND:20260424T235959Z
SUMMARY:Friday
URL:https://denbighchristianacademy.com/index.php/school-calendar/lunch-men
 u/10-school-menu/2042-friday
X-ALT-DESC;FMTTYPE=TEXT/HTML:<p><span style='text-decoration: underline\;'>
 <strong>Breakfast</strong></span></p>\n<p><br />1 oz Biscuit w/Turkey Saus
 age<br />1/4-1/2 cup Fruit<br />1/4-1/2 cup Cereal (optional)<br />6 oz. M
 ilk (8 oz for ages 6-12)</p>\n<p><br /><span style='text-decoration: under
 line\;'><strong>AM Snack</strong></span></p>\n<p>1.3 oz Nutri Grain Bar<br
  />4 oz Milk (8 oz for ages 6-12)</p>\n<p><br /><span style='text-decorati
 on: underline\;'><strong>Lunch</strong></span></p>\n<p>2 - 4 oz Coarn Dog 
 Nuggets<br />1/4-1/2 cup Baked Beans<br />1/4 cup Fruity Jello<br />6 oz.M
 ilk (ages 6-12 8 oz)</p>\n<p><br /><span style='text-decoration: underline
 \;'><strong>PM Snack</strong></span></p>\n<p>1 oz bag Goldfish Crackers<br
  />4 oz Milk (8 oz for ages 6-12)</p>
END:VEVENT
END:VCALENDAR
